BEGIN:VCALENDAR
VERSION:2.0
PRODID:-//HLF - ECPv4.6.8//NONSGML v1.0//EN
CALSCALE:GREGORIAN
METHOD:PUBLISH
X-WR-CALNAME:HLF
X-ORIGINAL-URL:http://hlf-skydive.dk
X-WR-CALDESC:Events for HLF
BEGIN:VEVENT
DTSTART;VALUE=DATE:20231230
DTEND;VALUE=DATE:20240101
DTSTAMP:20260420T012251
CREATED:20230115T114550Z
LAST-MODIFIED:20230115T114550Z
UID:3163-1703894400-1704067199@hlf-skydive.dk
SUMMARY:Weekend stævne
DESCRIPTION:Hver anden weekend – lige weekender – springer vi\, hvis vejret tillader det. \nFølg med på Facebook; HLF aktivitetsgruppe for at se tidspunkter\, instruktører og eventuelle aflysninger. \n
URL:http://hlf-skydive.dk/begivenhed/weekend-staevne-24/
END:VEVENT
END:VCALENDAR