BEGIN:VCALENDAR
VERSION:2.0
PRODID:-//HLF - ECPv4.6.8//NONSGML v1.0//EN
CALSCALE:GREGORIAN
METHOD:PUBLISH
X-WR-CALNAME:HLF
X-ORIGINAL-URL:http://hlf-skydive.dk
X-WR-CALDESC:Events for HLF
BEGIN:VEVENT
DTSTART;VALUE=DATE:20231202
DTEND;VALUE=DATE:20231204
DTSTAMP:20260420T031828
CREATED:20230115T114500Z
LAST-MODIFIED:20230115T115723Z
UID:3159-1701475200-1701647999@hlf-skydive.dk
SUMMARY:Weekend stævne
DESCRIPTION:Hver anden weekend – lige weekender – springer vi\, hvis vejret tillader det. \nFølg med på Facebook; HLF aktivitetsgruppe for at se tidspunkter\, instruktører og eventuelle aflysninger. \n1’er instruktør; Jan Agger \n2’er instruktør; Poul Frederiksen \n2’er elev; Rune\, Daniel & Willander \n
URL:http://hlf-skydive.dk/begivenhed/weekend-staevne-22/
END:VEVENT
END:VCALENDAR