BEGIN:VCALENDAR
VERSION:2.0
PRODID:-//HLF - ECPv4.6.8//NONSGML v1.0//EN
CALSCALE:GREGORIAN
METHOD:PUBLISH
X-WR-CALNAME:HLF
X-ORIGINAL-URL:http://hlf-skydive.dk
X-WR-CALDESC:Events for HLF
BEGIN:VEVENT
DTSTART;VALUE=DATE:20231118
DTEND;VALUE=DATE:20231120
DTSTAMP:20260420T034907
CREATED:20230115T114432Z
LAST-MODIFIED:20230115T114432Z
UID:3157-1700265600-1700438399@hlf-skydive.dk
SUMMARY:Weekend stævne
DESCRIPTION:Hver anden weekend – lige weekender – springer vi\, hvis vejret tillader det. \nFølg med på Facebook; HLF aktivitetsgruppe for at se tidspunkter\, instruktører og eventuelle aflysninger. \n
URL:http://hlf-skydive.dk/begivenhed/weekend-staevne-21/
END:VEVENT
END:VCALENDAR