BEGIN:VCALENDAR
VERSION:2.0
PRODID:-//HLF - ECPv4.6.8//NONSGML v1.0//EN
CALSCALE:GREGORIAN
METHOD:PUBLISH
X-WR-CALNAME:HLF
X-ORIGINAL-URL:http://hlf-skydive.dk
X-WR-CALDESC:Events for HLF
BEGIN:VEVENT
DTSTART;TZID=UTC+1:20240410T173000
DTEND;TZID=UTC+1:20240410T200000
DTSTAMP:20260421T105702
CREATED:20240209T092120Z
LAST-MODIFIED:20240209T092120Z
UID:3334-1712770200-1712779200@hlf-skydive.dk
SUMMARY:Skærmflyvning oplæg
DESCRIPTION:
URL:http://hlf-skydive.dk/begivenhed/skaermflyvning-oplaeg/
END:VEVENT
END:VCALENDAR