BEGIN:VCALENDAR
VERSION:2.0
PRODID:-//HLF - ECPv4.6.8//NONSGML v1.0//EN
CALSCALE:GREGORIAN
METHOD:PUBLISH
X-WR-CALNAME:HLF
X-ORIGINAL-URL:http://hlf-skydive.dk
X-WR-CALDESC:Events for HLF
BEGIN:VEVENT
DTSTART;VALUE=DATE:20231220
DTEND;VALUE=DATE:20231221
DTSTAMP:20260420T012251
CREATED:20230115T112548Z
LAST-MODIFIED:20230115T112548Z
UID:3117-1703030400-1703116799@hlf-skydive.dk
SUMMARY:Klubaften
DESCRIPTION:Hver onsdag plejer at springe hvis vejret er til det. Ellers klubaften hvor hygge\, røverhistorier og pakkeundervisning finder sted. \nFølg med på Aktivitets gruppen på Facebook. hvor mødetid og deslige kommer op \n
URL:http://hlf-skydive.dk/begivenhed/klubaften-52/
END:VEVENT
END:VCALENDAR