BEGIN:VCALENDAR
VERSION:2.0
PRODID:-//HLF - ECPv4.6.8//NONSGML v1.0//EN
CALSCALE:GREGORIAN
METHOD:PUBLISH
X-WR-CALNAME:HLF
X-ORIGINAL-URL:http://hlf-skydive.dk
X-WR-CALDESC:Events for HLF
BEGIN:VEVENT
DTSTART;VALUE=DATE:20231206
DTEND;VALUE=DATE:20231207
DTSTAMP:20260420T044316
CREATED:20230115T112509Z
LAST-MODIFIED:20230115T112509Z
UID:3113-1701820800-1701907199@hlf-skydive.dk
SUMMARY:Klubaften
DESCRIPTION:Hver onsdag plejer at springe hvis vejret er til det. Ellers klubaften hvor hygge\, røverhistorier og pakkeundervisning finder sted. \nFølg med på Aktivitets gruppen på Facebook. hvor mødetid og deslige kommer op \n
URL:http://hlf-skydive.dk/begivenhed/klubaften-50/
END:VEVENT
END:VCALENDAR