BEGIN:VCALENDAR
VERSION:2.0
PRODID:-//HLF - ECPv4.6.8//NONSGML v1.0//EN
CALSCALE:GREGORIAN
METHOD:PUBLISH
X-WR-CALNAME:HLF
X-ORIGINAL-URL:http://hlf-skydive.dk
X-WR-CALDESC:Events for HLF
BEGIN:VEVENT
DTSTART;TZID=UTC+1:20240221T170000
DTEND;TZID=UTC+1:20240221T200000
DTSTAMP:20260422T181929
CREATED:20240209T091336Z
LAST-MODIFIED:20240209T091336Z
UID:3312-1708534800-1708545600@hlf-skydive.dk
SUMMARY:Intro - soldater
DESCRIPTION:
URL:http://hlf-skydive.dk/begivenhed/intro-soldater/
END:VEVENT
END:VCALENDAR