BEGIN:VCALENDAR
VERSION:2.0
PRODID:-//HLF - ECPv4.6.8//NONSGML v1.0//EN
CALSCALE:GREGORIAN
METHOD:PUBLISH
X-WR-CALNAME:HLF
X-ORIGINAL-URL:http://hlf-skydive.dk
X-WR-CALDESC:Events for HLF
BEGIN:VEVENT
DTSTART;TZID=UTC+1:20240320T170000
DTEND;TZID=UTC+1:20240320T220000
DTSTAMP:20260423T093746
CREATED:20240209T091840Z
LAST-MODIFIED:20240209T091840Z
UID:3326-1710954000-1710972000@hlf-skydive.dk
SUMMARY:Fællesspisning
DESCRIPTION:
URL:http://hlf-skydive.dk/begivenhed/faellesspisning/
END:VEVENT
END:VCALENDAR